BEGIN:VCALENDAR
VERSION:2.0
PRODID:-//Regenbogen e.V. Bischofswerda - ECPv6.15.20//NONSGML v1.0//EN
CALSCALE:GREGORIAN
METHOD:PUBLISH
X-WR-CALNAME:Regenbogen e.V. Bischofswerda
X-ORIGINAL-URL:https://regenbogen-biw.de
X-WR-CALDESC:Veranstaltungen für Regenbogen e.V. Bischofswerda
REFRESH-INTERVAL;VALUE=DURATION:PT1H
X-Robots-Tag:noindex
X-PUBLISHED-TTL:PT1H
BEGIN:VTIMEZONE
TZID:Europe/Berlin
BEGIN:DAYLIGHT
TZOFFSETFROM:+0100
TZOFFSETTO:+0200
TZNAME:CEST
DTSTART:20240331T010000
END:DAYLIGHT
BEGIN:STANDARD
TZOFFSETFROM:+0200
TZOFFSETTO:+0100
TZNAME:CET
DTSTART:20241027T010000
END:STANDARD
BEGIN:DAYLIGHT
TZOFFSETFROM:+0100
TZOFFSETTO:+0200
TZNAME:CEST
DTSTART:20250330T010000
END:DAYLIGHT
BEGIN:STANDARD
TZOFFSETFROM:+0200
TZOFFSETTO:+0100
TZNAME:CET
DTSTART:20251026T010000
END:STANDARD
BEGIN:DAYLIGHT
TZOFFSETFROM:+0100
TZOFFSETTO:+0200
TZNAME:CEST
DTSTART:20260329T010000
END:DAYLIGHT
BEGIN:STANDARD
TZOFFSETFROM:+0200
TZOFFSETTO:+0100
TZNAME:CET
DTSTART:20261025T010000
END:STANDARD
END:VTIMEZONE
BEGIN:VEVENT
DTSTART;TZID=Europe/Berlin:20250728T080000
DTEND;TZID=Europe/Berlin:20250801T170000
DTSTAMP:20260420T094317
CREATED:20250521T102419Z
LAST-MODIFIED:20250602T191409Z
UID:7905-1753689600-1754067600@regenbogen-biw.de
SUMMARY:SOMMERFERIEN im Kinder- und Jugendtreff – Woche 5
DESCRIPTION:SOMMERCAMP TEENIES im B28 \nVom 28.07. – 01.08.2025 findet das Sommercamp Teenies für 11 bis 18jährige statt. \nDieses Jahr stehen die Sommercamps unter dem Motto „Mensch & Tier“. Die Teilnehmerzahl ist auf 18 Personen begrenzt. \nGeschlafen wird im B28. Es wird wieder einen Schlafsaal für Jungs und einen für Mädchen geben. Wer möchte\, kann auch sein Zelt und Schlafsack mitbringen und es im Garten aufzubauen\, um darin zu schlafen. \n  \nMontag:  Anreise 10-11 Uhr.  Wir lassen den Abend gemütlich am Lagerfeuer mit Stockbrot ausklingen. \nWir haben ein tolles Programm für euch geplant\, von dem wir noch nicht zu viel verraten wollen. Die Überraschung hält die Spannung hoch! \nNatürlich werden auch wieder Ausflüge gemacht. Ein Highlight-Ausflug ist in den Tierpark Görlitz. \nFreitag: Abreise 10-12 Uhr \nAnmeldeformular – Sommercamp 2025 \n03594 256 210 120 / offenertreff@regenbogen-biw.de
URL:https://regenbogen-biw.de/event/sommerferien-im-kinder-und-jugendtreff-woche-5/
LOCATION:Offener Treff B28\, Belmsdorfer Straße 28\, Bischofswerda\, Sachsen\, 01877\, Deutschland
CATEGORIES:Ambulante Hilfen,Inklusion Bischofswerda,Jugendclub,Mobile Arbeit,Offener Treff B28,Schulsozialarbeit,Sport & Bewegung
ATTACH;FMTTYPE=image/jpeg:https://regenbogen-biw.de/wp-content/uploads/2025/05/B28_2025-06-00_KJT_Anzeige_05.jpg
END:VEVENT
END:VCALENDAR