BEGIN:VCALENDAR
VERSION:2.0
PRODID:-//Regenbogen e.V. Bischofswerda - ECPv6.15.20//NONSGML v1.0//EN
CALSCALE:GREGORIAN
METHOD:PUBLISH
X-WR-CALNAME:Regenbogen e.V. Bischofswerda
X-ORIGINAL-URL:https://regenbogen-biw.de
X-WR-CALDESC:Veranstaltungen für Regenbogen e.V. Bischofswerda
REFRESH-INTERVAL;VALUE=DURATION:PT1H
X-Robots-Tag:noindex
X-PUBLISHED-TTL:PT1H
BEGIN:VTIMEZONE
TZID:Europe/Berlin
BEGIN:DAYLIGHT
TZOFFSETFROM:+0100
TZOFFSETTO:+0200
TZNAME:CEST
DTSTART:20240331T010000
END:DAYLIGHT
BEGIN:STANDARD
TZOFFSETFROM:+0200
TZOFFSETTO:+0100
TZNAME:CET
DTSTART:20241027T010000
END:STANDARD
BEGIN:DAYLIGHT
TZOFFSETFROM:+0100
TZOFFSETTO:+0200
TZNAME:CEST
DTSTART:20250330T010000
END:DAYLIGHT
BEGIN:STANDARD
TZOFFSETFROM:+0200
TZOFFSETTO:+0100
TZNAME:CET
DTSTART:20251026T010000
END:STANDARD
BEGIN:DAYLIGHT
TZOFFSETFROM:+0100
TZOFFSETTO:+0200
TZNAME:CEST
DTSTART:20260329T010000
END:DAYLIGHT
BEGIN:STANDARD
TZOFFSETFROM:+0200
TZOFFSETTO:+0100
TZNAME:CET
DTSTART:20261025T010000
END:STANDARD
END:VTIMEZONE
BEGIN:VEVENT
DTSTART;TZID=Europe/Berlin:20250707T100000
DTEND;TZID=Europe/Berlin:20250711T170000
DTSTAMP:20260420T093726
CREATED:20250521T100639Z
LAST-MODIFIED:20250601T123312Z
UID:7894-1751882400-1752253200@regenbogen-biw.de
SUMMARY:SOMMERFERIEN im Kinder- und Jugendtreff - Woche 2
DESCRIPTION:SOMMERCAMP KIDS im B28 \n  \nUnser Sommercamp für die Kids ist leider restlos ausgebucht. \nDer Offene Treff bleibt in dieser Woche auch geschlossen. \n  \nWeitere Infos: \n03594 256 210 120 / offenertreff@regenbogen-biw.de
URL:https://regenbogen-biw.de/event/sommerferien-im-kinder-und-jugendtreff-woche-2/
CATEGORIES:Ambulante Hilfen,Jugendclub,Mobile Arbeit,Offener Treff B28,Schulsozialarbeit,Sport & Bewegung
ATTACH;FMTTYPE=image/jpeg:https://regenbogen-biw.de/wp-content/uploads/2025/05/B28_2025-06-00_KJT_Anzeige_02.jpg
END:VEVENT
END:VCALENDAR