BEGIN:VCALENDAR
VERSION:2.0
PRODID:-//Regenbogen e.V. Bischofswerda - ECPv6.15.20//NONSGML v1.0//EN
CALSCALE:GREGORIAN
METHOD:PUBLISH
X-WR-CALNAME:Regenbogen e.V. Bischofswerda
X-ORIGINAL-URL:https://regenbogen-biw.de
X-WR-CALDESC:Veranstaltungen für Regenbogen e.V. Bischofswerda
REFRESH-INTERVAL;VALUE=DURATION:PT1H
X-Robots-Tag:noindex
X-PUBLISHED-TTL:PT1H
BEGIN:VTIMEZONE
TZID:Europe/Berlin
BEGIN:DAYLIGHT
TZOFFSETFROM:+0100
TZOFFSETTO:+0200
TZNAME:CEST
DTSTART:20230326T010000
END:DAYLIGHT
BEGIN:STANDARD
TZOFFSETFROM:+0200
TZOFFSETTO:+0100
TZNAME:CET
DTSTART:20231029T010000
END:STANDARD
BEGIN:DAYLIGHT
TZOFFSETFROM:+0100
TZOFFSETTO:+0200
TZNAME:CEST
DTSTART:20240331T010000
END:DAYLIGHT
BEGIN:STANDARD
TZOFFSETFROM:+0200
TZOFFSETTO:+0100
TZNAME:CET
DTSTART:20241027T010000
END:STANDARD
BEGIN:DAYLIGHT
TZOFFSETFROM:+0100
TZOFFSETTO:+0200
TZNAME:CEST
DTSTART:20250330T010000
END:DAYLIGHT
BEGIN:STANDARD
TZOFFSETFROM:+0200
TZOFFSETTO:+0100
TZNAME:CET
DTSTART:20251026T010000
END:STANDARD
END:VTIMEZONE
BEGIN:VEVENT
DTSTART;TZID=Europe/Berlin:20240403T150000
DTEND;TZID=Europe/Berlin:20240403T170000
DTSTAMP:20260424T165049
CREATED:20240319T093405Z
LAST-MODIFIED:20240319T093751Z
UID:3844-1712156400-1712163600@regenbogen-biw.de
SUMMARY:Lustiger Bingo!-Nachmittag
DESCRIPTION:keine Anmeldung erforderlich
URL:https://regenbogen-biw.de/event/lusitger-bingo-nachmittag/
LOCATION:Offener Treff der Generationen\, Belmsdorfer Straße 28\, Bischofswerda\, 01877\, Deutschland
CATEGORIES:Offener Treff der Generationen
ATTACH;FMTTYPE=image/jpeg:https://regenbogen-biw.de/wp-content/uploads/2024/03/BINGONeu.jpg
END:VEVENT
END:VCALENDAR